Workbook

Sheet Základní informace
A1: PŘIHLÁŠKA
A6: O říčanskou Pusinku
A10: Název skupiny:
A11: Adresa:
A13: Jméno a příjmení vedoucí:
A14: Telefon:
A15: E-mail:
A16: Celkový počet soutěžících:
A17: Doprava (auto, autobus):
A19: Fakturační údaje: | B19: Název:
B20: Adresa:
B22: IČ/DIČ:
A24: Odesláním přihlášky potvrzuji, že souhlasím s propozicemi a pravidly soutěže. Beru také na vědomí, že vedoucí odpovídají za své svěřenkyně po celou dobu konání soutěže.
A26: Uzávěrka přihlášek: 17.1. 2027

Sheet GDPR
A1: Souhlas se zpracováním osobních údajů a práva subjektu údajů
A3: Účast mažoretkového souboru na soutěži „O říčanskou Pusinku“ v roce 2027
A7: Já, níže uvedená/ý, tímto poskytuji zapsanému spolku Glottis, neziskové organizaci, coby správci osobních údajů, souhlas se zpracováním níže uvedených osobních údajů, a to pro níže stanovené účely.
A11: Jméno a příjmení (zástupce souboru):
A12: Kontaktní údaje (email, telefon):
A15: Osobní údaje | E15: účel zpracování | I15: souhlas
A16: Fotografie dětí (pořizování, zveřejňování, archivace) | E16: Informování o aktivitách soutěží, použití pro prezentaci a propagaci činnosti např. na nástěnkách, na webu, Facebooku, v tisku, v kronikách | I16: ANO
A20: Audio či videozáznam dětí | E20: Informování o aktivitách soutěží, použití pro prezentaci a propagaci činnosti např. na webových stránkách, Facebooku | I20: ANO
A24: Osobní údaje uvedené na přihlášce | E24: Zpracování seznamu nezbytného pro administrativní přípravu a organizaci soutěží, pro výkon zdravotní péče, pro informování o změnách vzniklých při organizaci a realizaci soutěží (zasílání emailu, SMS zpráv apod.) | I24: ANO
A127: ANO
A128: NE

Sheet Fakturace
B3: Název skupiny: | C3: =_xlfn.CONCAT('Základní informace'!B10:H10)
B5: disciplína | C5: počet | D5: startovné | E5: celkem
B6: SÓLO | C6: =SUM(Sólo!L6:L31) -> 0 | D6: 200 | E6: =C6*D6 -> 0
B7: DUO, TRIO | C7: {=SUM(+' Duo_Trio'!I6:I41)} -> 0 | D7: 150 | E7: =C7*D7 -> 0
B8: MINIFORMACE | C8: =SUM(Miniformace!I6+Miniformace!I18+Miniformace!I30+Miniformace!I42+Miniformace!I54+Miniformace!I66) -> 0 | D8: 150 | E8: =C8*D8 -> 0
D9: celkem | E9: =SUM(E6:E8) -> 0
B11: pozn.: startovné se platí za jednoho soutěžícího

Sheet Sólo
A1: KATEGORIE SÓLO
A3: Název skupiny: | D3: =_xlfn.CONCAT('Základní informace'!B10:H10)
A5: číslo | B5: Disciplína | C5: Výkonostní třída | D5: Příjmení | E5: Jméno | F5: Datum narození | G5: Rok narození | H5: Dosažený věk v r. 2027 | I5: Věková kategorie | J5: Délka skladby | K5: Náčiní (pouze u disciplíny open) | L5: Počet
A6: 1. | H6: =IF(G6=""," ",$B$33-G6) | I6: =IF(H:H<=7,"Mini",IF(H:H<=10,"Děti",IF(H:H<=13,"Kadet",IF(H:H<=16,"Junior",IF(H:H>=17,"Senior",0))))) -> Senior | L6: =IF(D6="",0,1) -> 0
A7: 2. | H7: =IF(G7=""," ",$B$33-G7) | I7: =IF(H:H<=7,"Mini",IF(H:H<=10,"Děti",IF(H:H<=13,"Kadet",IF(H:H<=16,"Junior",IF(H:H>=17,"Senior",0))))) -> Senior | L7: =IF(D7="",0,1) -> 0
A8: 3. | H8: =IF(G8=""," ",$B$33-G8) | I8: =IF(H:H<=7,"Mini",IF(H:H<=10,"Děti",IF(H:H<=13,"Kadet",IF(H:H<=16,"Junior",IF(H:H>=17,"Senior",0))))) -> Senior | L8: =IF(D8="",0,1) -> 0
A9: 4. | H9: =IF(G9=""," ",$B$33-G9) | I9: =IF(H:H<=7,"Mini",IF(H:H<=10,"Děti",IF(H:H<=13,"Kadet",IF(H:H<=16,"Junior",IF(H:H>=17,"Senior",0))))) -> Senior | L9: =IF(D9="",0,1) -> 0
A10: 5. | H10: =IF(G10=""," ",$B$33-G10) | I10: =IF(H:H<=7,"Mini",IF(H:H<=10,"Děti",IF(H:H<=13,"Kadet",IF(H:H<=16,"Junior",IF(H:H>=17,"Senior",0))))) -> Senior | L10: =IF(D10="",0,1) -> 0
A11: 6. | H11: =IF(G11=""," ",$B$33-G11) | I11: =IF(H:H<=7,"Mini",IF(H:H<=10,"Děti",IF(H:H<=13,"Kadet",IF(H:H<=16,"Junior",IF(H:H>=17,"Senior",0))))) -> Senior | L11: =IF(D11="",0,1) -> 0
A12: 7. | H12: =IF(G12=""," ",$B$33-G12) | I12: =IF(H:H<=7,"Mini",IF(H:H<=10,"Děti",IF(H:H<=13,"Kadet",IF(H:H<=16,"Junior",IF(H:H>=17,"Senior",0))))) -> Senior | L12: =IF(D12="",0,1) -> 0
A13: 8. | H13: =IF(G13=""," ",$B$33-G13) | I13: =IF(H:H<=7,"Mini",IF(H:H<=10,"Děti",IF(H:H<=13,"Kadet",IF(H:H<=16,"Junior",IF(H:H>=17,"Senior",0))))) -> Senior | L13: =IF(D13="",0,1) -> 0
A14: 9. | H14: =IF(G14=""," ",$B$33-G14) | I14: =IF(H:H<=7,"Mini",IF(H:H<=10,"Děti",IF(H:H<=13,"Kadet",IF(H:H<=16,"Junior",IF(H:H>=17,"Senior",0))))) -> Senior | L14: =IF(D14="",0,1) -> 0
A15: 10. | H15: =IF(G15=""," ",$B$33-G15) | I15: =IF(H:H<=7,"Mini",IF(H:H<=10,"Děti",IF(H:H<=13,"Kadet",IF(H:H<=16,"Junior",IF(H:H>=17,"Senior",0))))) -> Senior | L15: =IF(D15="",0,1) -> 0
A16: 11. | H16: =IF(G16=""," ",$B$33-G16) | I16: =IF(H:H<=7,"Mini",IF(H:H<=10,"Děti",IF(H:H<=13,"Kadet",IF(H:H<=16,"Junior",IF(H:H>=17,"Senior",0))))) -> Senior | L16: =IF(D16="",0,1) -> 0
A17: 12. | H17: =IF(G17=""," ",$B$33-G17) | I17: =IF(H:H<=7,"Mini",IF(H:H<=10,"Děti",IF(H:H<=13,"Kadet",IF(H:H<=16,"Junior",IF(H:H>=17,"Senior",0))))) -> Senior | L17: =IF(D17="",0,1) -> 0
... A31: 26. | H31: =IF(G31=""," ",$B$33-G31) | I31: =IF(H:H<=7,"Mini",IF(H:H<=10,"Děti",IF(H:H<=13,"Kadet",IF(H:H<=16,"Junior",IF(H:H>=17,"Senior",0))))) -> Senior | L31: =IF(D31="",0,1) -> 0
A33: soutěžní rok: | B33: 2027
A78: A
A79: B
A81: 1 baton
A82: 2 baton
A83: open

Sheet  Duo_Trio
A1: KATEGORIE DUO / TRIO
A3: Název skupiny: | D3: =_xlfn.CONCAT('Základní informace'!B10:H10)
A5: číslo | B5: Disciplína | C5: Výkonostní třída | D5: Příjmení | E5: Jméno | F5: Datum narození | G5: Rok narození | H5: Dosažený věk v r. 2027 | I5: Počet soutežících | J5: Věkový průměr | K5: Věková kategorie | L5: Náčiní (pouze u disciplíny open) | M5: Délka skladby
A6: 1. | H6: =IF(G6=""," ",$B$43-G6) | J6: =IF(I6=""," ",SUM(H6:H8)/I6) | K6: =IF(J:J<=7,"Mini",IF(J:J<=10,"Děti",IF(J:J<=13,"Kadet",IF(J:J<=16,"Junior",IF(J:J>=17,"Senior",0))))) -> Senior
H7: =IF(G7=""," ",$B$43-G7)
H8: =IF(G8=""," ",$B$43-G8)
A9: 2. | H9: =IF(G9=""," ",$B$43-G9) | J9: =IF(I9=""," ",SUM(H9:H11)/I9) | K9: =IF(J:J<=7,"Mini",IF(J:J<=10,"Děti",IF(J:J<=13,"Kadet",IF(J:J<=16,"Junior",IF(J:J>=17,"Senior",0))))) -> Senior
H10: =IF(G10=""," ",$B$43-G10)
H11: =IF(G11=""," ",$B$43-G11)
A12: 3. | H12: =IF(G12=""," ",$B$43-G12) | J12: =IF(I12=""," ",SUM(H12:H14)/I12) | K12: =IF(J:J<=7,"Mini",IF(J:J<=10,"Děti",IF(J:J<=13,"Kadet",IF(J:J<=16,"Junior",IF(J:J>=17,"Senior",0))))) -> Senior
H13: =IF(G13=""," ",$B$43-G13)
H14: =IF(G14=""," ",$B$43-G14)
A15: 4. | H15: =IF(G15=""," ",$B$43-G15) | J15: =IF(I15=""," ",SUM(H15:H17)/I15) | K15: =IF(J:J<=7,"Mini",IF(J:J<=10,"Děti",IF(J:J<=13,"Kadet",IF(J:J<=16,"Junior",IF(J:J>=17,"Senior",0))))) -> Senior
H16: =IF(G16=""," ",$B$43-G16)
H17: =IF(G17=""," ",$B$43-G17)
A18: 5. | H18: =IF(G18=""," ",$B$43-G18) | J18: =IF(I18=""," ",SUM(H18:H20)/I18) | K18: =IF(J:J<=7,"Mini",IF(J:J<=10,"Děti",IF(J:J<=13,"Kadet",IF(J:J<=16,"Junior",IF(J:J>=17,"Senior",0))))) -> Senior
H19: =IF(G19=""," ",$B$43-G19)
H20: =IF(G20=""," ",$B$43-G20)
A21: 6. | H21: =IF(G21=""," ",$B$43-G21) | J21: =IF(I21=""," ",SUM(H21:H23)/I21) | K21: =IF(J:J<=7,"Mini",IF(J:J<=10,"Děti",IF(J:J<=13,"Kadet",IF(J:J<=16,"Junior",IF(J:J>=17,"Senior",0))))) -> Senior
H22: =IF(G22=""," ",$B$43-G22)
H23: =IF(G23=""," ",$B$43-G23)
A24: 7. | H24: =IF(G24=""," ",$B$43-G24) | J24: =IF(I24=""," ",SUM(H24:H26)/I24) | K24: =IF(J:J<=7,"Mini",IF(J:J<=10,"Děti",IF(J:J<=13,"Kadet",IF(J:J<=16,"Junior",IF(J:J>=17,"Senior",0))))) -> Senior
H25: =IF(G25=""," ",$B$43-G25)
H26: =IF(G26=""," ",$B$43-G26)
A27: 8. | H27: =IF(G27=""," ",$B$43-G27) | J27: =IF(I27=""," ",SUM(H27:H29)/I27) | K27: =IF(J:J<=7,"Mini",IF(J:J<=10,"Děti",IF(J:J<=13,"Kadet",IF(J:J<=16,"Junior",IF(J:J>=17,"Senior",0))))) -> Senior
H28: =IF(G28=""," ",$B$43-G28)
H29: =IF(G29=""," ",$B$43-G29)
A30: 9. | H30: =IF(G30=""," ",$B$43-G30) | J30: =IF(I30=""," ",SUM(H30:H32)/I30) | K30: =IF(J:J<=7,"Mini",IF(J:J<=10,"Děti",IF(J:J<=13,"Kadet",IF(J:J<=16,"Junior",IF(J:J>=17,"Senior",0))))) -> Senior
H31: =IF(G31=""," ",$B$43-G31)
H32: =IF(G32=""," ",$B$43-G32)
A33: 10. | H33: =IF(G33=""," ",$B$43-G33) | J33: =IF(I33=""," ",SUM(H33:H35)/I33) | K33: =IF(J:J<=7,"Mini",IF(J:J<=10,"Děti",IF(J:J<=13,"Kadet",IF(J:J<=16,"Junior",IF(J:J>=17,"Senior",0))))) -> Senior
H34: =IF(G34=""," ",$B$43-G34)
H35: =IF(G35=""," ",$B$43-G35)
A36: 11. | H36: =IF(G36=""," ",$B$43-G36) | J36: =IF(I36=""," ",SUM(H36:H38)/I36) | K36: =IF(J:J<=7,"Mini",IF(J:J<=10,"Děti",IF(J:J<=13,"Kadet",IF(J:J<=16,"Junior",IF(J:J>=17,"Senior",0))))) -> Senior
H37: =IF(G37=""," ",$B$43-G37)
H38: =IF(G38=""," ",$B$43-G38)
A39: 12. | H39: =IF(G39=""," ",$B$43-G39) | J39: =IF(I39=""," ",SUM(H39:H41)/I39) | K39: =IF(J:J<=7,"Mini",IF(J:J<=10,"Děti",IF(J:J<=13,"Kadet",IF(J:J<=16,"Junior",IF(J:J>=17,"Senior",0))))) -> Senior
H40: =IF(G40=""," ",$B$43-G40)
H41: =IF(G41=""," ",$B$43-G41)
A43: soutěžní rok: | B43: 2027
A104: A
A105: B
A107: 1 baton
A108: 2 baton
A109: open

Sheet Miniformace
A1: KATEGORIE MINIFORMACE
A3: Název skupiny: | D3: =_xlfn.CONCAT('Základní informace'!B10:H10)
A5: číslo | B5: disciplína | C5: Výkonostní třída | D5: Příjmení | E5: Jméno | F5: Datum narození | G5: Rok narození | H5: Dosažený věk v r. 2027 | I5: Počet soutěžících | J5: Věkový průměr | K5: Věková kategorie | L5: Délka skladby
A6: 1. | H6: =IF(G6=""," ",$B$76-G6) | J6: =IF(I6=""," ",SUM(H6:H14)/I6) | K6: =IF(J:J<=7,"Mini",IF(J:J<=10,"Děti",IF(J:J<=13,"Kadet",IF(J:J<=16.99,"Junior",IF(J:J>=17,"Senior",0))))) -> Senior
H7: =IF(G7=""," ",$B$76-G7)
H8: =IF(G8=""," ",$B$76-G8)
H9: =IF(G9=""," ",$B$76-G9)
H10: =IF(G10=""," ",$B$76-G10)
H11: =IF(G11=""," ",$B$76-G11)
H12: =IF(G12=""," ",$B$76-G12)
H13: =IF(G13=""," ",$B$76-G13)
H14: =IF(G14=""," ",$B$76-G14)
A16: Název skupiny:
A18: 2. | H18: =IF(G18=""," ",$B$76-G18) | J18: =IF(I18=""," ",SUM(H18:H26)/I18) | K18: =IF(J:J<=7,"Mini",IF(J:J<=10,"Děti",IF(J:J<=13,"Kadet",IF(J:J<=16.99,"Junior",IF(J:J>=17,"Senior",0))))) -> Senior
H19: =IF(G19=""," ",$B$76-G19)
H20: =IF(G20=""," ",$B$76-G20)
H21: =IF(G21=""," ",$B$76-G21)
H22: =IF(G22=""," ",$B$76-G22)
H23: =IF(G23=""," ",$B$76-G23)
H24: =IF(G24=""," ",$B$76-G24)
H25: =IF(G25=""," ",$B$76-G25)
H26: =IF(G26=""," ",$B$76-G26)
A28: Název skupiny:
A30: 3. | H30: =IF(G30=""," ",$B$76-G30) | J30: =IF(I30=""," ",SUM(H30:H38)/I30) | K30: =IF(J:J<=7,"Mini",IF(J:J<=10,"Děti",IF(J:J<=13,"Kadet",IF(J:J<=16.99,"Junior",IF(J:J>=17,"Senior",0))))) -> Senior
H31: =IF(G31=""," ",$B$76-G31)
H32: =IF(G32=""," ",$B$76-G32)
H33: =IF(G33=""," ",$B$76-G33)
H34: =IF(G34=""," ",$B$76-G34)
H35: =IF(G35=""," ",$B$76-G35)
H36: =IF(G36=""," ",$B$76-G36)
H37: =IF(G37=""," ",$B$76-G37)
H38: =IF(G38=""," ",$B$76-G38)
A40: Název skupiny:
A42: 4. | H42: =IF(G42=""," ",$B$76-G42) | J42: =IF(I42=""," ",SUM(H42:H50)/I42) | K42: =IF(J:J<=7,"Mini",IF(J:J<=10,"Děti",IF(J:J<=13,"Kadet",IF(J:J<=16.99,"Junior",IF(J:J>=17,"Senior",0))))) -> Senior
H43: =IF(G43=""," ",$B$76-G43)
H44: =IF(G44=""," ",$B$76-G44)
H45: =IF(G45=""," ",$B$76-G45)
H46: =IF(G46=""," ",$B$76-G46)
H47: =IF(G47=""," ",$B$76-G47)
H48: =IF(G48=""," ",$B$76-G48)
H49: =IF(G49=""," ",$B$76-G49)
H50: =IF(G50=""," ",$B$76-G50)
A52: Název skupiny:
A54: 5. | H54: =IF(G54=""," ",$B$76-G54) | J54: =IF(I54=""," ",SUM(H54:H62)/I54) | K54: =IF(J:J<=7,"Mini",IF(J:J<=10,"Děti",IF(J:J<=13,"Kadet",IF(J:J<=16.99,"Junior",IF(J:J>=17,"Senior",0))))) -> Senior
H55: =IF(G55=""," ",$B$76-G55)
H56: =IF(G56=""," ",$B$76-G56)
H57: =IF(G57=""," ",$B$76-G57)
H58: =IF(G58=""," ",$B$76-G58)
H59: =IF(G59=""," ",$B$76-G59)
H60: =IF(G60=""," ",$B$76-G60)
H61: =IF(G61=""," ",$B$76-G61)
H62: =IF(G62=""," ",$B$76-G62)
A64: Název skupiny:
A66: 6. | H66: =IF(G66=""," ",$B$76-G66) | J66: =IF(I66=""," ",SUM(H66:H74)/I66) | K66: =IF(J:J<=7,"Mini",IF(J:J<=10,"Děti",IF(J:J<=13,"Kadet",IF(J:J<=16.99,"Junior",IF(J:J>=17,"Senior",0))))) -> Senior
H67: =IF(G67=""," ",$B$76-G67)
H68: =IF(G68=""," ",$B$76-G68)
H69: =IF(G69=""," ",$B$76-G69)
H70: =IF(G70=""," ",$B$76-G70)
H71: =IF(G71=""," ",$B$76-G71)
H72: =IF(G72=""," ",$B$76-G72)
H73: =IF(G73=""," ",$B$76-G73)
H74: =IF(G74=""," ",$B$76-G74)
A76: soutěžní rok: | B76: 2027
A111: A
A112: B
A114: 1 baton
A115: 2 baton
A116: open
